BEGIN:VCALENDAR
VERSION:2.0
PRODID:-//wp-events-plugin.com//7.2.3.1//EN
TZID:Europe/Paris
X-WR-TIMEZONE:Europe/Paris
BEGIN:VEVENT
UID:1086@journal-bacalan.fr
DTSTART;TZID=Europe/Paris:20260310T150000
DTEND;TZID=Europe/Paris:20260428T170000
DTSTAMP:20260305T154321Z
URL:https://www.journal-bacalan.fr/evenements/venez-planter-et-recolter-de
 s-endives/
SUMMARY:Les mardis endives
DESCRIPTION:Vous vous souvenez peut-être de la Ferme du Lapin Bleu… qui 
 cultivait des endives dans un bunker de la cité Claveau. Sous les conseil
 s d’Isabelle\, qui gérait la ferme\, nous reprenons la culture d’endi
 ves dans un bunker à l’association Platau.\n\nTous les mardis\, entre 1
 5 h et 17 h\, en mars et avril\, venez (re)découvrir la plantation et/ou 
 la récolte d’endives. C’est aussi l’occasion de discuter de la plui
 e et du beau temps et de (re)visiter platau.\n\nRendez-vous à platau : 31
  bis rue Barillet-Deschamps – 33300 Bordeaux (près de l’école Point 
 du Jour).\n\nDes questions ? Écrivez-nous à : accueil@platau.org ou pass
 ez nous voir.
ATTACH;FMTTYPE=image/jpeg:https://www.journal-bacalan.fr/wp-content/upload
 s/2026/03/DSC02504.jpg
CATEGORIES:Événements
LOCATION:Platau\, 31 bis rue Barillet Deschamps\, Bordeaux\, 33300\, France
GEO:44.880823;-0.54828
X-APPLE-STRUCTURED-LOCATION;VALUE=URI;X-ADDRESS=31 bis rue Barillet Descham
 ps\, Bordeaux\, 33300\, France;X-APPLE-RADIUS=100;X-TITLE=Platau:geo:44.88
 0823,-0.54828
END:VEVENT
BEGIN:VTIMEZONE
TZID:Europe/Paris
X-LIC-LOCATION:Europe/Paris
BEGIN:STANDARD
DTSTART:20251026T020000
TZOFFSETFROM:+0200
TZOFFSETTO:+0100
TZNAME:CET
END:STANDARD
BEGIN:DAYLIGHT
DTSTART:20260329T030000
TZOFFSETFROM:+0100
TZOFFSETTO:+0200
TZNAME:CEST
END:DAYLIGHT
END:VTIMEZONE
END:VCALENDAR