BEGIN:VCALENDAR
VERSION:2.0
PRODID:-//wp-events-plugin.com//7.2.3.1//EN
TZID:Europe/Paris
X-WR-TIMEZONE:Europe/Paris
BEGIN:VEVENT
UID:1082@journal-bacalan.fr
DTSTART;TZID=Europe/Paris:20260321T150000
DTEND;TZID=Europe/Paris:20260321T173000
DTSTAMP:20260302T105529Z
URL:https://www.journal-bacalan.fr/evenements/les-memoires-de-la-cite-bleu
 e-1/
SUMMARY:Les Mémoires de La Cité Bleue #1
DESCRIPTION:Les Mémoires de La Cité Bleue : faire vivre le patrimoine loc
 al\n\nUn nouveau rendez-vous trimestriel dédié à la transmission et à 
 la valorisation de l’Histoire et des mémoires du site de La Cité Bleue
  et du quartier Bacalan.\n\nRevenir sur les transformations du territoire 
 et ses grandes dynamiques pour mieux l'appréhender aujourd'hui\, découvr
 ir les récits de celles et ceux qui l’ont façonné\, qui ont marqué s
 on identité !\n\nMercredi 18 mars\n15h-16h30\nLa Cité Bleue\, 176 rue Ac
 hard\nGratuit\n\nAu programme :\n\nVisite guidée de La Cité Bleue par Je
 an-Philippe Bret-Gaubaste\, propriétaire du site depuis 1986 et Jean-Clau
 de Déranlot\, historien spécialisé (1h30)\n\nTable ronde autour de la p
 arution de l'ouvrage Maques de Bacalan et Drôle de Claveau "La clique à 
 Vivou" de Yves Bris\, en présence de l'auteur (1h)\n\nAnciens\, nouveaux 
 habitants\, passionnés d’histoire locale : rejoignez-nous pour un temps
  d’échange et de transmission autour de l’histoire de Bacalan !\n\n&n
 bsp\;
ATTACH;FMTTYPE=image/jpeg:https://www.journal-bacalan.fr/wp-content/upload
 s/2026/03/sudouest-photo-1-25262697-1.jpg
CATEGORIES:Événements
LOCATION:La Cité bleue\, 190 rue achard\, Bordeaux\, 33300\, 06 78 57 99 5
 5\, France
GEO:44.871717;-0.546501
X-APPLE-STRUCTURED-LOCATION;VALUE=URI;X-ADDRESS=190 rue achard\, Bordeaux\,
  33300\, 06 78 57 99 55\, France;X-APPLE-RADIUS=100;X-TITLE=La Cité bleue
 :geo:44.871717,-0.546501
END:VEVENT
BEGIN:VTIMEZONE
TZID:Europe/Paris
X-LIC-LOCATION:Europe/Paris
BEGIN:STANDARD
DTSTART:20251026T020000
TZOFFSETFROM:+0200
TZOFFSETTO:+0100
TZNAME:CET
END:STANDARD
END:VTIMEZONE
END:VCALENDAR