BEGIN:VCALENDAR
VERSION:2.0
PRODID:-//wp-events-plugin.com//7.2.3.1//EN
TZID:Europe/Paris
X-WR-TIMEZONE:Europe/Paris
BEGIN:VEVENT
UID:1104@journal-bacalan.fr
DTSTART;TZID=Europe/Paris:20260424T100000
DTEND;TZID=Europe/Paris:20260425T190000
DTSTAMP:20260421T072946Z
URL:https://www.journal-bacalan.fr/evenements/les-48h-de-lagriculture-urba
 ine-a-platau/
SUMMARY:Les 48h de l'agriculture urbaine à PLATAU
DESCRIPTION:Les 24\, 25 et 26 avril c'est le retour des 48h de l'agricultur
 e urbaine !!\n\nà Platau on vous propose de vous joindre à nous\, le ven
 dredi 24 avril :\n10h-12h30 et à 14h-17h : installation de nichoirs à M
 ésanges dans le quartier Claveau par Tous aux Abris\nEt le samedi 25 avri
 l :\n\n- 10h30 : atelier plantation au jardin Anne Sylvestre\n- 11h : visi
 te du blockhaus de la Champignonne\n- 14h30 : Semis et Boutures "les bons 
 plan(t)s" avec Place aux jardins\n-16h : bombes à graines pour fleurir le
  quartier Claveau\n- 18h : on ouvre la guinguette/buvette\nOn vous attend 
 au : 31 bis rue Barillet Deschamps - 33300 Bordeaux\n\nOuvert à toutes et
  tous\, gratuitement et sans inscription\n\nEn cas de questions : accueil@
 platau.org
ATTACH;FMTTYPE=image/jpeg:https://www.journal-bacalan.fr/wp-content/upload
 s/2026/04/Affiche-48H-PLATAU-Publication-Instagram-45.png
CATEGORIES:Événements
LOCATION:Platau\, 31 bis rue Barillet Deschamps\, Bordeaux\, 33300\, France
GEO:44.880823;-0.54828
X-APPLE-STRUCTURED-LOCATION;VALUE=URI;X-ADDRESS=31 bis rue Barillet Descham
 ps\, Bordeaux\, 33300\, France;X-APPLE-RADIUS=100;X-TITLE=Platau:geo:44.88
 0823,-0.54828
END:VEVENT
BEGIN:VTIMEZONE
TZID:Europe/Paris
X-LIC-LOCATION:Europe/Paris
BEGIN:DAYLIGHT
DTSTART:20260329T030000
TZOFFSETFROM:+0100
TZOFFSETTO:+0200
TZNAME:CEST
END:DAYLIGHT
END:VTIMEZONE
END:VCALENDAR