BEGIN:VCALENDAR
VERSION:2.0
PRODID:-//wp-events-plugin.com//7.2.3.1//EN
TZID:Europe/Paris
X-WR-TIMEZONE:Europe/Paris
BEGIN:VEVENT
UID:1085@journal-bacalan.fr
DTSTART;TZID=Europe/Paris:20260321T140000
DTEND;TZID=Europe/Paris:20260321T220000
DTSTAMP:20260305T135201Z
URL:https://www.journal-bacalan.fr/evenements/fete-du-printemps/
SUMMARY:Fête du printemps
DESCRIPTION:On vous propose de fêter l'arrivée du printemps à Bacalan\, 
 avec nous samedi 21 mars à PLATAU.\nDe 14h à 22h\, on sort les tables\,
  les outils et la guinguette.\nAu programme :\n- Ateliers plantation et r
 écolte d’endives\n- Semis de légumes d’été (avec des plants à pri
 x libre)\n- Fabrication de nichoirs à martinets\, fabrication de purins d
 'orties\n- Et une guinguette pour prolonger la journée\nBref\, une bonne 
 excuse pour mettre les mains dans la terre\, bricoler un peu\, et surtout 
 passer un moment convivial ensemble.\nOn vous attend au :\n31 bis rue Bari
 llet Deschamps - 33300 Bordeaux (près de l'école Point du Jour)\n\nN'hé
 sitez pas à faire circuler l'info autour de vous ! Accès libre\, pas bes
 oin d'inscription
ATTACH;FMTTYPE=image/jpeg:https://www.journal-bacalan.fr/wp-content/upload
 s/2026/03/fete-du-printemps-platau-.png
CATEGORIES:Événements
LOCATION:Platau\, 31 bis rue Barillet Deschamps\, Bordeaux\, 33300\, France
GEO:44.880823;-0.54828
X-APPLE-STRUCTURED-LOCATION;VALUE=URI;X-ADDRESS=31 bis rue Barillet Descham
 ps\, Bordeaux\, 33300\, France;X-APPLE-RADIUS=100;X-TITLE=Platau:geo:44.88
 0823,-0.54828
END:VEVENT
BEGIN:VTIMEZONE
TZID:Europe/Paris
X-LIC-LOCATION:Europe/Paris
BEGIN:STANDARD
DTSTART:20251026T020000
TZOFFSETFROM:+0200
TZOFFSETTO:+0100
TZNAME:CET
END:STANDARD
END:VTIMEZONE
END:VCALENDAR