BEGIN:VCALENDAR
VERSION:2.0
PRODID:-//wp-events-plugin.com//7.2.3.1//EN
TZID:Europe/Paris
X-WR-TIMEZONE:Europe/Paris
BEGIN:VEVENT
UID:819@journal-bacalan.fr
DTSTART;TZID=Europe/Paris:20250505T100000
DTEND;TZID=Europe/Paris:20250523T180000
DTSTAMP:20250417T152449Z
URL:https://www.journal-bacalan.fr/evenements/exposition-de-lartiste-alben
 -sculptures/
SUMMARY:Exposition de l’artiste ALBEN - Sculptures
DESCRIPTION:Dans le cadre de l’expo Banksy (programmation « hors les mur
 s ») organisée par La Cité Bleue et le Garage Moderne\, L'Artichaut acc
 ueille Alben du 5 au 23 mai 2025. Inspiré par le mouvement artistique Nou
 veau réaliste\, Alben engage son travail sur ses sculptures au début des
  années 2000.\n\nDans ses œuvres\, il réutilise des objets issus de not
 re quotidien\, qu’il accumule et fige dans la résine. Il est rapidement
  repéré et exposé dans des galeries en France et à l’international\,
  comme en Asie et aux États-Unis\, où plusieurs « solo-shows » lui o
 nt été consacrés.\n\nCes œuvres sont le fruit de rencontres hasardeuse
 s. Lors de ses voyages\, il commence systématiquement par arpenter les br
 ocantes et les marchés aux puces à la recherche d’objets. L’explorat
 ion des sociétés à travers ce qu'elles jettent forme le socle de sa dé
 marche.\n\nAccumulations\, assemblages et décalages\, ses sculptures cult
 ivent la transparence et offrent des lectures douces ou acerbes sur les p
 ériodes qu’elles figent.\n\nEn 2024\, il participe à plusieurs exposit
 ions à New-York\, San Francisco\, Miami\, Hong-Kong\, Tokyo et au Mexique
 …À L’Artichaut\, il présentera son univers à travers une vidéo de 
 son travail et une dizaine de ses œuvres.\n\n 	Vernissage mardi 6 mai à 
 partir de 18h\n 	L’Artichaut\,  6 place Pierre Cétois - 33300 Bordeau
 x\n 	05 56 06 83 81 - contact@lartichaut-bordeaux.com\n\nhttps://www.alben
 artist.com/\nhttps://lartichaut-bordeaux.com/\nhttps://www.instagram.com/a
 lbenfactory/\nhttps://www.instagram.com/lartichautbordeaux/
ATTACH;FMTTYPE=image/jpeg:https://www.journal-bacalan.fr/wp-content/upload
 s/2025/04/ALBEN-1-scaled.jpg
CATEGORIES:Événements
LOCATION:L'Artichaut-Bordeaux\, 6 place Pierre Cétois\, Bordeaux\, 33300\,
  05 56 06 83 81\, France
GEO:44.877269;-0.554149
X-APPLE-STRUCTURED-LOCATION;VALUE=URI;X-ADDRESS=6 place Pierre Cétois\, Bo
 rdeaux\, 33300\, 05 56 06 83 81\, France;X-APPLE-RADIUS=100;X-TITLE=L'Arti
 chaut-Bordeaux:geo:44.877269,-0.554149
END:VEVENT
BEGIN:VTIMEZONE
TZID:Europe/Paris
X-LIC-LOCATION:Europe/Paris
BEGIN:DAYLIGHT
DTSTART:20250330T030000
TZOFFSETFROM:+0100
TZOFFSETTO:+0200
TZNAME:CEST
END:DAYLIGHT
END:VTIMEZONE
END:VCALENDAR