BEGIN:VCALENDAR
VERSION:2.0
PRODID:-//wp-events-plugin.com//7.2.3.1//EN
TZID:Europe/Paris
X-WR-TIMEZONE:Europe/Paris
BEGIN:VEVENT
UID:645@journal-bacalan.fr
DTSTART;TZID=Europe/Paris:20241102T110000
DTEND;TZID=Europe/Paris:20241102T110000
DTSTAMP:20241018T122307Z
URL:https://www.journal-bacalan.fr/evenements/balade-urbaine-au-fil-de-la-
 garonne-de-new-york-a-la-cite-jardin-2/
SUMMARY:Balade urbaine « Au fil de la Garonne : de New-York à la Cité ja
 rdin »
DESCRIPTION:—————————–\n\nLA BALADE : « Au fil de la G
 aronne : de New-York à la Cité jardin »\n\n—————————
 –\n\nIci on pêche\, on cultive des endives et on vinifie du vin ! Au mi
 lieu des traces laissées par la Seconde Guerre Mondiale\, découvrez avec
  nos éclaireurs urbains Frédéric et Malek le charme du quartier Bacalan
 -Claveau. À l’ombre de la « Cité Lumineuse »\, jusqu’à la mutatio
 n réussie de la « Cité Claveau »\, la belle vitalité des habitants se
  manifeste par une solidarité qui fait vivre le quartier depuis toujours.
  C’est bel et bien un voyage qui vous attend\, au fil de la Garonne !\n\
 n—————————–\n\n&gt\; L’ASSOCIATION\n\n————
 —————–\n\nL’Alternative Urbaine Bordeaux développe une form
 e de tourisme de proximité et solidaire.\n\nNous avons deux missions :\n\
 n→ Organiser des balades insolites dans les quartiers méconnus ou mal c
 onnus de la métropole afin de contribuer à un changement de regard\n\n
 → Former\, puis embaucher des habitants éloignés de l’emploi pour qu
 ’elles animent une saison culturelle de balades en tant qu’éclaireur(
 se) urbain. Cette activité rémunérée est un tremplin de retour vers un
  emploi choisi et pérenne.\n\n+ d’infos sur le parcours vers l’emploi
  : https://bordeaux.alternative-urbaine.com/parcours/\n\n—————
 ————–\n\nLES INFOS LOGISTIQUES :\n\n—————————
 –\n\n– 12 PERSONNES MAX pour préserver les échanges et la conviviali
 té.\n\n– DURÉE : 1h30\n\n– PRIX LIBRE | Nous souhaitons que le tarif
  ne soit pas un frein à la participation des foyers les plus modestes c
 ’est pourquoi nous proposons le prix libre. Lors de votre contribution e
 n fin de balade\, nous vous remercions néanmoins de prendre en compte nos
  coûts d’organisation pour ceux qui le peuvent.\n\n– Lieu de RDV comm
 uniqué à l’inscription.\n\n– Inscription obligatoire via notre site 
 web : bordeaux.alternative-urbaine.com/balades/juillet-au-fil-de-la-garonn
 e-de-new-york-a-la-cite-jardin/
ATTACH;FMTTYPE=image/jpeg:https://www.journal-bacalan.fr/wp-content/upload
 s/2024/01/Balade-urbaine-01.jpg
CATEGORIES:Événements
END:VEVENT
BEGIN:VTIMEZONE
TZID:Europe/Paris
X-LIC-LOCATION:Europe/Paris
BEGIN:STANDARD
DTSTART:20241027T020000
TZOFFSETFROM:+0200
TZOFFSETTO:+0100
TZNAME:CET
END:STANDARD
END:VTIMEZONE
END:VCALENDAR